BEGIN:VCALENDAR
VERSION:2.0
PRODID:-//PYVOBJECT//NONSGML Version 0.9.9//EN
X-WR-TIMEZONE:Africa/Johannesburg
BEGIN:VTIMEZONE
TZID:Africa/Johannesburg
BEGIN:STANDARD
DTSTART:20000101T000000
RRULE:FREQ=YEARLY;BYMONTH=1
TZNAME:SAST
TZOFFSETFROM:+0200
TZOFFSETTO:+0200
END:STANDARD
END:VTIMEZONE
BEGIN:VEVENT
UID:20260425T170429Z - 73670@eos-content
DTSTART;TZID=Africa/Johannesburg:20260425T100000
DTEND;TZID=Africa/Johannesburg:20260425T120000
ATTENDEE:MAILTO:filipe@thestorey.co.za
DESCRIPTION:https://www.thestorey.co.za/results/residential/for-sale/cape-t
 own/claremont/house/3150478/\n\n6 Heather Street\, Claremont.\n\nFilipe Es
 pinha (0726066778)
DTSTAMP:20260425T170429Z
LOCATION:Claremont\, Cape Town
SUMMARY:The Storey Real Estate Show Day - RL698
END:VEVENT
END:VCALENDAR
