BEGIN:VCALENDAR
VERSION:2.0
PRODID:-//PYVOBJECT//NONSGML Version 0.9.9//EN
X-WR-TIMEZONE:Africa/Johannesburg
BEGIN:VTIMEZONE
TZID:Africa/Johannesburg
BEGIN:STANDARD
DTSTART:20000101T000000
RRULE:FREQ=YEARLY;BYMONTH=1
TZNAME:SAST
TZOFFSETFROM:+0200
TZOFFSETTO:+0200
END:STANDARD
END:VTIMEZONE
BEGIN:VEVENT
UID:20260423T094415Z - 81297@eos-content
DTSTART;TZID=Africa/Johannesburg:20260426T143000
DTEND;TZID=Africa/Johannesburg:20260426T163000
ATTENDEE:MAILTO:sam@thestorey.co.za
DESCRIPTION:https://www.thestorey.co.za/results/residential/for-sale/durban
 /morningside/house/3017796/\n\nFollow The Storey Boards from the corner of
  Venice Road and Farrell Road\n\nSam Harwood (0780130027)
DTSTAMP:20260423T094415Z
LOCATION:Morningside\, Durban
SUMMARY:The Storey Real Estate Show Day - RL567
END:VEVENT
END:VCALENDAR
